BEGIN:VCALENDAR
VERSION:2.0
PRODID:-//Squarespace Inc/Squarespace 6//v6//EN
BEGIN:VEVENT
UID:5abc00031ae6cf78146a42ba@squarespace.com
DTSTAMP:20180329T144012Z
DTSTART:20180413T180000Z
DTEND:20180413T190000Z
SUMMARY:Know Your Food:  Phil Anderson from Anderson Organics in Caledonia\
 , IL
GEO:42.325739;-88.985335
LOCATION:Choices Natural Market\, 6718 Broadcast Parkway\, Loves Park\, IL\
 , 61111\, United States
END:VEVENT
END:VCALENDAR
