BEGIN:VCALENDAR
VERSION:2.0
PRODID:-//Squarespace Inc/Squarespace 6//v6//EN
BEGIN:VEVENT
UID:5abc1314758d462671d7dea8@squarespace.com
DTSTAMP:20180329T143930Z
DTSTART:20180422T160000Z
DTEND:20180422T170000Z
SUMMARY:Earth Day!  Know Your Food:  Cori Taylor from Royal Soil Farm in Ro
 scoe\, IL
GEO:42.325739;-88.985335
LOCATION:Choices Natural Market\, 6718 Broadcast Parkway\, Loves Park\, IL\
 , 61111\, United States
END:VEVENT
END:VCALENDAR
