BEGIN:VCALENDAR
VERSION:2.0
PRODID:-//Squarespace Inc/Squarespace 6//v6//EN
BEGIN:VEVENT
UID:5abcfba82b6a281e02305990@squarespace.com
DTSTAMP:20180329T145246Z
DTSTART:20180427T150000Z
DTEND:20180427T160000Z
SUMMARY:Know Your Food:  Tim Brown of Broadview Farm & Gardens in Marengo
GEO:42.325739;-88.985335
LOCATION:Choices Natural Market\, 6718 Broadcast Parkway\, Loves Park\, IL\
 , 61111\, United States
END:VEVENT
END:VCALENDAR
