BEGIN:VCALENDAR
VERSION:2.0
PRODID:-//Squarespace Inc/Squarespace 6//v6//EN
BEGIN:VEVENT
UID:5ab968b3f950b7ef62b7938b@squarespace.com
DTSTAMP:20180326T214414Z
DTSTART:20180407T130000Z
DTEND:20180408T000000Z
SUMMARY:April Sample Saturday!
END:VEVENT
END:VCALENDAR
