BEGIN:VCALENDAR
VERSION:2.0
PRODID:-//Squarespace Inc/Squarespace 6//v6//EN
BEGIN:VEVENT
UID:5ab9762088251b8769e1f225@squarespace.com
DTSTAMP:20180405T141347Z
DTSTART:20180407T150000Z
DTEND:20180407T163000Z
SUMMARY:Local Farmers Meet & Greet and Panel Discussion
GEO:42.325739;-88.985335
LOCATION:Choices Natural Market\, 6718 Broadcast Parkway\, Loves Park\, IL\
 , 61111\, United States
END:VEVENT
END:VCALENDAR
