BEGIN:VCALENDAR
VERSION:2.0
PRODID:-//Squarespace Inc/Squarespace 6//v6//EN
BEGIN:VEVENT
UID:5ae2295d758d46b03d53aff9@squarespace.com
DTSTAMP:20180426T193842Z
DTSTART:20180505T130000Z
DTEND:20180506T000000Z
SUMMARY:May Sample Saturday!
END:VEVENT
END:VCALENDAR
