BEGIN:VCALENDAR
VERSION:2.0
PRODID:-//Squarespace Inc/Squarespace 6//v6//EN
BEGIN:VEVENT
UID:5b1195e070a6ad14bd21f6b1@squarespace.com
DTSTAMP:20180601T185619Z
DTSTART:20180602T130000Z
DTEND:20180603T000000Z
SUMMARY:June Sample Saturday!
END:VEVENT
END:VCALENDAR
