BEGIN:VCALENDAR
VERSION:2.0
PRODID:-//Squarespace Inc/Squarespace 6//v6//EN
BEGIN:VEVENT
UID:5b11ab1303ce64d473afe2e6@squarespace.com
DTSTAMP:20180731T101945Z
DTSTART:20180628T213000Z
DTEND:20180628T223000Z
SUMMARY:Outdoor Vinyasa Flow Yoga Class Led by Keri Knutson
END:VEVENT
END:VCALENDAR
