BEGIN:VCALENDAR
VERSION:2.0
PRODID:-//Squarespace Inc/Squarespace 6//v6//EN
BEGIN:VEVENT
UID:5b119f0870a6ad531f07c1c0@squarespace.com
DTSTAMP:20180607T164207Z
DTSTART:20180607T170000Z
DTEND:20180607T200000Z
SUMMARY:POSTPONED!  Herbatint Hair Color Extravaganza!
GEO:42.325739;-88.985335
LOCATION:Choices Natural Market\, 6718 Broadcast Parkway\, Loves Park\, IL\
 , 61111\, United States
END:VEVENT
END:VCALENDAR
