BEGIN:VCALENDAR
VERSION:2.0
PRODID:-//Squarespace Inc/Squarespace 6//v6//EN
BEGIN:VEVENT
UID:5b2a83cd758d460a2dc9ab66@squarespace.com
DTSTAMP:20180709T175130Z
DTSTART:20180712T220000Z
DTEND:20180712T230000Z
SUMMARY:Cancelled\, Being Rescheduled! Gummy Vitamins--The MegaFood Differe
 nce
GEO:42.325739;-88.985335
LOCATION:Choices Natural Market\, 6718 Broadcast Parkway\, Loves Park\, IL\
 , 61111\, United States
END:VEVENT
END:VCALENDAR
