BEGIN:VCALENDAR
VERSION:2.0
PRODID:-//Squarespace Inc/Squarespace 6//v6//EN
BEGIN:VEVENT
UID:5b2aa34f70a6adcd5c49b9ba@squarespace.com
DTSTAMP:20180731T101859Z
DTSTART:20180725T180000Z
DTEND:20180725T190000Z
SUMMARY:Yoga Nidra with Keri Knutson
GEO:42.325739;-88.985335
LOCATION:Choices Natural Market\, 6718 Broadcast Parkway\, Loves Park\, IL\
 , 61111\, United States
END:VEVENT
END:VCALENDAR
