BEGIN:VCALENDAR
VERSION:2.0
PRODID:-//Squarespace Inc/Squarespace 6//v6//EN
BEGIN:VEVENT
UID:5b2abd658a922dc1f05057bb@squarespace.com
DTSTAMP:20180731T102452Z
DTSTART:20180729T170000Z
DTEND:20180729T180000Z
SUMMARY:Meet Chard:  The Queen of Greens!
GEO:42.325739;-88.985335
LOCATION:Choices Natural Market\, 6718 Broadcast Parkway\, Loves Park\, IL\
 , 61111\, United States
END:VEVENT
END:VCALENDAR
