BEGIN:VCALENDAR
VERSION:2.0
PRODID:-//Squarespace Inc/Squarespace 6//v6//EN
BEGIN:VEVENT
UID:5b2a7f2b03ce64b38933cf4d@squarespace.com
DTSTAMP:20180620T163848Z
DTSTART:20180707T130000Z
DTEND:20180708T000000Z
SUMMARY:July Sample Saturday
GEO:42.326283;-88.985712
LOCATION:Choices Natural Market\, 6718 Broadcast Parkway\, Loves Park\, IL\
 , 61111\, United States
END:VEVENT
END:VCALENDAR
