BEGIN:VCALENDAR
VERSION:2.0
PRODID:-//Squarespace Inc/Squarespace 6//v6//EN
BEGIN:VEVENT
UID:5b607be088251b6349ce1649@squarespace.com
DTSTAMP:20180802T030635Z
DTSTART:20180812T140000Z
DTEND:20180819T000000Z
SUMMARY:Kombucha Krazy Week
END:VEVENT
END:VCALENDAR
