BEGIN:VCALENDAR
VERSION:2.0
PRODID:-//Squarespace Inc/Squarespace 6//v6//EN
BEGIN:VEVENT
UID:5b607197758d46a989bab8fe@squarespace.com
DTSTAMP:20180811T144747Z
DTSTART:20180814T213000Z
DTEND:20180814T223000Z
SUMMARY:Gentle Yoga with Taunia May
GEO:42.325739;-88.985335
LOCATION:Choices Natural Market\, 6718 Broadcast Parkway\, Loves Park\, IL\
 , 61111\, United States
END:VEVENT
END:VCALENDAR
