BEGIN:VCALENDAR
VERSION:2.0
PRODID:-//Squarespace Inc/Squarespace 6//v6//EN
BEGIN:VEVENT
UID:5b606f20aa4a99799755b6fd@squarespace.com
DTSTAMP:20180802T035417Z
DTSTART:20180823T213000Z
DTEND:20180823T223000Z
SUMMARY:"Cultivate Happiness" Outdoor Yoga with Keri
GEO:42.326283;-88.985712
LOCATION:Choices Natural Market\, 6718 Broadcast Parkway\, Loves Park\, IL\
 , 61111\, United States
END:VEVENT
END:VCALENDAR
