BEGIN:VCALENDAR
VERSION:2.0
PRODID:-//Squarespace Inc/Squarespace 6//v6//EN
BEGIN:VEVENT
UID:5b88679af950b78e8f0e5ac0@squarespace.com
DTSTAMP:20180830T220837Z
DTSTART:20180919T213000Z
DTEND:20180919T223000Z
SUMMARY:Outdoor Yoga With Keri Knutson
GEO:42.325739;-88.985335
LOCATION:Choices Natural Market\, 6718 Broadcast Parkway\, Loves Park\, IL\
 , 61111\, United States
END:VEVENT
END:VCALENDAR
