BEGIN:VCALENDAR
VERSION:2.0
PRODID:-//Squarespace Inc/Squarespace 6//v6//EN
BEGIN:VEVENT
UID:5b606affaa4a99799754f6ab@squarespace.com
DTSTAMP:20180731T140159Z
DTSTART:20180804T130000Z
DTEND:20180805T000000Z
SUMMARY:Sample Saturday!
END:VEVENT
END:VCALENDAR
