BEGIN:VCALENDAR
VERSION:2.0
PRODID:-//Squarespace Inc/Squarespace 6//v6//EN
BEGIN:VEVENT
UID:5b606c50575d1f4e6b912626@squarespace.com
DTSTAMP:20180802T023647Z
DTSTART:20180809T180000Z
DTEND:20180809T210000Z
SUMMARY:Free Diabetes Screening!
GEO:42.326283;-88.985712
LOCATION:Choices Natural Market\, 6718 Broadcast Parkway\, Loves Park\, IL\
 , 61111\, United States
END:VEVENT
END:VCALENDAR
