BEGIN:VCALENDAR
VERSION:2.0
PRODID:-//Squarespace Inc/Squarespace 6//v6//EN
BEGIN:VEVENT
UID:5b885e6d21c67ca83da02dd9@squarespace.com
DTSTAMP:20180830T212613Z
DTSTART:20180901T133000Z
DTEND:20180902T000000Z
SUMMARY:Sample Saturday!
GEO:42.326283;-88.985712
LOCATION:Choices Natural Market\, 6718 Broadcast Parkway\, Loves Park\, IL\
 , 61111\, United States
END:VEVENT
END:VCALENDAR
