BEGIN:VCALENDAR
VERSION:2.0
PRODID:-//Squarespace Inc/Squarespace 6//v6//EN
BEGIN:VEVENT
UID:5b88627d032be4d99212ae81@squarespace.com
DTSTAMP:20180830T213819Z
DTSTART:20180913T170000Z
DTEND:20180913T200000Z
SUMMARY:Herbatint Hair Color Extravaganza & Swap
GEO:42.325739;-88.985335
LOCATION:Choices Natural Market\, 6718 Broadcast Parkway\, Loves Park\, IL\
 , 61111\, United States
END:VEVENT
END:VCALENDAR
