BEGIN:VCALENDAR
VERSION:2.0
PRODID:-//Squarespace Inc/Squarespace 6//v6//EN
BEGIN:VEVENT
UID:5b8863dcf950b78e8f0e0fcf@squarespace.com
DTSTAMP:20180830T214954Z
DTSTART:20180914T170000Z
DTEND:20180914T180000Z
SUMMARY:Accupressure to Relieve Stress & Assist with Focus presented by Dr. 
 Rosemary Schiavi 
GEO:42.326283;-88.985712
LOCATION:Choices Natural Market\, 6718 Broadcast Parkway\, Loves Park\, IL  
 61111
END:VEVENT
END:VCALENDAR
