BEGIN:VCALENDAR
VERSION:2.0
PRODID:-//Squarespace Inc/Squarespace 6//v6//EN
BEGIN:VEVENT
UID:5b886afc70a6adb2ef6a6bd6@squarespace.com
DTSTAMP:20180901T041136Z
DTSTART:20180923T170000Z
DTEND:20180923T180000Z
SUMMARY:Going Organic--A Budget Friendly Beginners' Guide
GEO:42.326283;-88.985712
LOCATION:Choices Natural Market\, 6718 Broadcast Parkway\, Loves Park\, IL\
 , 61111\, United States
END:VEVENT
END:VCALENDAR
