BEGIN:VCALENDAR
VERSION:2.0
PRODID:-//Squarespace Inc/Squarespace 6//v6//EN
BEGIN:VEVENT
UID:5b8860ff032be4d9921293d9@squarespace.com
DTSTAMP:20180830T212927Z
DTSTART:20180903T130000Z
DTEND:20180904T000000Z
SUMMARY:Happy Labor Day!
END:VEVENT
END:VCALENDAR
