BEGIN:VCALENDAR
VERSION:2.0
PRODID:-//Squarespace Inc/Squarespace 6//v6//EN
BEGIN:VEVENT
UID:5c2beddc1ae6cf9b88611cf7@squarespace.com
DTSTAMP:20190629T133545Z
DTSTART:20190122T190000Z
DTEND:20190122T200000Z
SUMMARY:Cancelled.  How Can Accupressure Help Relieve Stress &amp\; Assist 
 with Focus?  
GEO:42.325739;-88.985335
LOCATION:Choices Natural Market\, 6718 Broadcast Parkway\, Loves Park\, IL\
 , 61111\, United States
END:VEVENT
END:VCALENDAR
