BEGIN:VCALENDAR
VERSION:2.0
PRODID:-//Squarespace Inc/Squarespace 6//v6//EN
BEGIN:VEVENT
UID:5c2bea2cc2241bc8b4039b4d@squarespace.com
DTSTAMP:20190101T224531Z
DTSTART:20190116T230000Z
DTEND:20190117T000000Z
SUMMARY:Food4Fuel Sprint to Confidence 
GEO:42.325739;-88.985335
LOCATION:Choices Natural Market\, 6718 Broadcast Parkway\, Loves Park\, IL\
 , 61111\, United States
END:VEVENT
END:VCALENDAR
