BEGIN:VCALENDAR
VERSION:2.0
PRODID:-//Squarespace Inc/Squarespace 6//v6//EN
BEGIN:VEVENT
UID:5c390607352f5376e7fa5873@squarespace.com
DTSTAMP:20190117T233158Z
DTSTART:20190120T180000Z
DTEND:20190120T200000Z
SUMMARY:Movie Screening (In Defense of Food) and Road Trip for Health Kick 
 Off
GEO:42.326283;-88.985712
LOCATION:Choices Natural Market\, 6718 Broadcast Parkway\, Loves Park\, IL\
 , 61111\, United States
END:VEVENT
END:VCALENDAR
