BEGIN:VCALENDAR
VERSION:2.0
PRODID:-//Squarespace Inc/Squarespace 6//v6//EN
BEGIN:VEVENT
UID:5c2bf1d9032be425c697f42a@squarespace.com
DTSTAMP:20190106T163157Z
DTSTART:20190125T170000Z
DTEND:20190125T200000Z
SUMMARY:Garden of Life Demo--Keto Certified Protein Powders
GEO:42.326283;-88.985712
LOCATION:Choices Natural Market\, 6718 Broadcast Parkway\, Loves Park\, IL\
 , 61111\, United States
END:VEVENT
END:VCALENDAR
