BEGIN:VCALENDAR
VERSION:2.0
PRODID:-//Squarespace Inc/Squarespace 6//v6//EN
BEGIN:VEVENT
UID:5c2bf2314ae2379d323fb79f@squarespace.com
DTSTAMP:20190129T232600Z
DTSTART:20190129T230000Z
DTEND:20190130T000000Z
SUMMARY:How to Create an Herbal Remedy Cabinet for the Cold and Flu Season
GEO:42.325739;-88.985335
LOCATION:Choices Natural Market\, 6718 Broadcast Parkway\, Loves Park\, IL\
 , 61111\, United States
END:VEVENT
END:VCALENDAR
