BEGIN:VCALENDAR
VERSION:2.0
PRODID:-//Squarespace Inc/Squarespace 6//v6//EN
BEGIN:VEVENT
UID:5c2bd91a40ec9ab2ea41d551@squarespace.com
DTSTAMP:20190101T212417Z
DTSTART:20190105T213000Z
DTEND:20190105T223000Z
SUMMARY:January Sample Saturday
GEO:42.326283;-88.985712
LOCATION:Choices Natural Market\, 6718 Broadcast Parkway\, Loves Park\, IL\
 , 61111\, United States
END:VEVENT
END:VCALENDAR
