BEGIN:VCALENDAR
VERSION:2.0
PRODID:-//Squarespace Inc/Squarespace 6//v6//EN
BEGIN:VEVENT
UID:5da1fe0fe91096688f4043b6@squarespace.com
DTSTAMP:20191012T163607Z
DTSTART:20191027T180000Z
DTEND:20191027T200000Z
SUMMARY:Fall Fun-Suncatcher Leaf Art!
GEO:42.326283;-88.985712
LOCATION:Choices Natural Market\, 6718 Broadcast Parkway\, Loves Park\, IL\
 , 61111\, United States
END:VEVENT
END:VCALENDAR
