BEGIN:VCALENDAR
VERSION:2.0
PRODID:-//Squarespace Inc/Squarespace 6//v6//EN
BEGIN:VEVENT
UID:5d925b81a247c64645b11124@squarespace.com
DTSTAMP:20190930T195104Z
DTSTART:20191031T130000Z
DTEND:20191101T000000Z
SUMMARY:Halloween!  Teal is the New Orange!
GEO:42.326283;-88.985712
LOCATION:Choices Natural Market\, 6718 Broadcast Parkway\, Loves Park\, IL\
 , 61111\, United States
END:VEVENT
END:VCALENDAR
