BEGIN:VCALENDAR
VERSION:2.0
PRODID:-//Squarespace Inc/Squarespace 6//v6//EN
BEGIN:VEVENT
UID:5d92481738127459153bb49d@squarespace.com
DTSTAMP:20190930T184508Z
DTSTART:20191005T130000Z
DTEND:20191006T000000Z
SUMMARY:Sample Saturday
END:VEVENT
END:VCALENDAR
