BEGIN:VCALENDAR
VERSION:2.0
PRODID:-//Squarespace Inc/Squarespace 6//v6//EN
BEGIN:VEVENT
UID:5dbc48781c212f7ef29d39cd@squarespace.com
DTSTAMP:20191101T151655Z
DTSTART:20191120T223000Z
DTEND:20191120T233000Z
SUMMARY:Leaky Gut:  What Is It and How Can Diet Help?
GEO:42.326283;-88.985712
LOCATION:Choices Natural Market\, 6718 Broadcast Parkway\, Loves Park\, IL\
 , 61111\, United States
END:VEVENT
END:VCALENDAR
