BEGIN:VCALENDAR
VERSION:2.0
PRODID:-//Squarespace Inc/Squarespace 6//v6//EN
BEGIN:VEVENT
UID:5daa35dce92d8c3dc87aaee3@squarespace.com
DTSTAMP:20191101T152745Z
DTSTART:20191110T180000Z
DTEND:20191110T190000Z
SUMMARY:Eat the Rainbow
GEO:42.326283;-88.985712
LOCATION:Choices Natural Market\, 6718 Broadcast Parkway\, Loves Park\, IL\
 , 61111\, United States
END:VEVENT
END:VCALENDAR
