BEGIN:VCALENDAR
VERSION:2.0
PRODID:-//Squarespace Inc/Squarespace 6//v6//EN
BEGIN:VEVENT
UID:5dbc4027d2d61b20684aea66@squarespace.com
DTSTAMP:20191101T151400Z
DTSTART:20191114T223000Z
DTEND:20191114T233000Z
SUMMARY:Jarrow Demo:  Bone Broth\, Golden Tea\, and Golden Milk
GEO:42.326283;-88.985712
LOCATION:Choices Natural Market\, 6718 Broadcast Parkway\, Loves Park\, IL\
 , 61111\, United States
END:VEVENT
END:VCALENDAR
