BEGIN:VCALENDAR
VERSION:2.0
PRODID:-//Squarespace Inc/Squarespace 6//v6//EN
BEGIN:VEVENT
UID:5daa3bc44e423579cf6143a5@squarespace.com
DTSTAMP:20191018T223046Z
DTSTART:20191102T120000Z
DTEND:20191103T000000Z
SUMMARY:Sample Saturday
GEO:42.326283;-88.985712
LOCATION:Choices Natural Market\, 6718 Broadcast Parkway\, Loves Park\, IL\
 , 61111\, United States
END:VEVENT
END:VCALENDAR
