BEGIN:VCALENDAR
VERSION:2.0
PRODID:-//Squarespace Inc/Squarespace 6//v6//EN
BEGIN:VEVENT
UID:5de7e7ecc09a8973f9bcf287@squarespace.com
DTSTAMP:20191207T212456Z
DTSTART:20191211T220000Z
DTEND:20191212T000000Z
SUMMARY:Wine and Cheese Tasting Event
GEO:42.326283;-88.985712
LOCATION:Choices Natural Market\, 6718 Broadcast Parkway\, Loves Park\, IL\
 , 61111\, United States
END:VEVENT
END:VCALENDAR
