BEGIN:VCALENDAR
VERSION:2.0
PRODID:-//Squarespace Inc/Squarespace 6//v6//EN
BEGIN:VEVENT
UID:5de7e6996509bf0b18ab1ce1@squarespace.com
DTSTAMP:20191204T170744Z
DTSTART:20191207T140000Z
DTEND:20191208T010000Z
SUMMARY:December Sample Saturday!
GEO:42.326283;-88.985712
LOCATION:Choices Natural Market\, 6718 Broadcast Parkway\, Loves Park\, IL\
 , 61111\, United States
END:VEVENT
END:VCALENDAR
