BEGIN:VCALENDAR
VERSION:2.0
PRODID:-//Squarespace Inc/Squarespace 6//v6//EN
BEGIN:VEVENT
UID:5c40d96bb9144379954b15df@squarespace.com
DTSTAMP:20190210T163551Z
DTSTART:20190210T180000Z
DTEND:20190210T190000Z
SUMMARY:Vegetarianism:  A Beginner's Guide
GEO:42.325739;-88.985335
LOCATION:Choices Natural Market\, 6718 Broadcast Parkway\, Loves Park\, IL\
 , 61111\, United States
END:VEVENT
END:VCALENDAR
