BEGIN:VCALENDAR
VERSION:2.0
PRODID:-//Squarespace Inc/Squarespace 6//v6//EN
BEGIN:VEVENT
UID:5c50caf7c74c50301aae002d@squarespace.com
DTSTAMP:20190211T231253Z
DTSTART:20190213T223000Z
DTEND:20190214T003000Z
SUMMARY:FREE Movie Screening: Forks Over Knives
GEO:42.326283;-88.985712
LOCATION:Choices Natural Market\, 6718 Broadcast Parkway\, Loves Park\, IL\
 , 61111\, United States
END:VEVENT
END:VCALENDAR
