BEGIN:VCALENDAR
VERSION:2.0
PRODID:-//Squarespace Inc/Squarespace 6//v6//EN
BEGIN:VEVENT
UID:5c40cbcb0e2e72fca4e04812@squarespace.com
DTSTAMP:20190117T214043Z
DTSTART:20190217T180000Z
DTEND:20190217T200000Z
SUMMARY:"In Defense of Food" FREE Documentary Movie Screening
GEO:42.326283;-88.985712
LOCATION:Choices Natural Market\, 6718 Broadcast Parkway\, Loves Park\, IL\
 , 61111\, United States
END:VEVENT
END:VCALENDAR
