BEGIN:VCALENDAR
VERSION:2.0
PRODID:-//Squarespace Inc/Squarespace 6//v6//EN
BEGIN:VEVENT
UID:5c65db604785d3ec5930dc9c@squarespace.com
DTSTAMP:20200103T215849Z
DTSTART:20190219T230000Z
DTEND:20190220T000000Z
SUMMARY:How to Create an Herbal Remedy Cabinet for the Cold &amp\; Flu Seas
 on
GEO:42.326283;-88.985712
LOCATION:Choices Natural Market\, 6718 Broadcast Parkway\, Loves Park\, IL\
 , 61111\, United States
END:VEVENT
END:VCALENDAR
