BEGIN:VCALENDAR
VERSION:2.0
PRODID:-//Squarespace Inc/Squarespace 6//v6//EN
BEGIN:VEVENT
UID:5c50df6a562fa70b7b5d1824@squarespace.com
DTSTAMP:20190129T232451Z
DTSTART:20190202T140000Z
DTEND:20190203T010000Z
SUMMARY:February Sample Saturday
GEO:42.325739;-88.985335
LOCATION:Choices Natural Market\, 6718 Broadcast Parkway\, Loves Park\, IL\
 , 61111\, United States
END:VEVENT
END:VCALENDAR
