BEGIN:VCALENDAR
VERSION:2.0
PRODID:-//Squarespace Inc/Squarespace 6//v6//EN
BEGIN:VEVENT
UID:5c40f9f5352f5319796b0858@squarespace.com
DTSTAMP:20190117T222114Z
DTSTART:20190220T223000Z
DTEND:20190220T233000Z
SUMMARY:Food is Medicine
GEO:42.325739;-88.985335
LOCATION:Choices Natural Market\, 6718 Broadcast Parkway\, Loves Park\, IL\
 , 61111\, United States
END:VEVENT
END:VCALENDAR
