BEGIN:VCALENDAR
VERSION:2.0
PRODID:-//Squarespace Inc/Squarespace 6//v6//EN
BEGIN:VEVENT
UID:5c40df02758d4699307e7bf9@squarespace.com
DTSTAMP:20190117T213806Z
DTSTART:20190204T180000Z
DTEND:20190204T210000Z
SUMMARY:Free Heart Health Check
GEO:42.325739;-88.985335
LOCATION:Choices Natural Market\, 6718 Broadcast Parkway\, Loves Park\, IL\
 , 61111\, United States
END:VEVENT
END:VCALENDAR
