BEGIN:VCALENDAR
VERSION:2.0
PRODID:-//Squarespace Inc/Squarespace 6//v6//EN
BEGIN:VEVENT
UID:5c7a9a01fa0d60728a730524@squarespace.com
DTSTAMP:20190302T154106Z
DTSTART:20190314T220000Z
DTEND:20190314T230000Z
SUMMARY:Wellness &amp\; Essential Oils
GEO:42.326283;-88.985712
LOCATION:Choices Natural Market\, 6718 Broadcast Parkway\, Loves Park\, IL\
 , 61111\, United States
END:VEVENT
END:VCALENDAR
