BEGIN:VCALENDAR
VERSION:2.0
PRODID:-//Squarespace Inc/Squarespace 6//v6//EN
BEGIN:VEVENT
UID:5c7c1ee18165f5e1807e9097@squarespace.com
DTSTAMP:20190303T193520Z
DTSTART:20190315T160000Z
DTEND:20190315T190000Z
SUMMARY:Garden of Life Keto-Friendly Coffee Bar
GEO:42.325739;-88.985335
LOCATION:Choices Natural Market\, 6718 Broadcast Parkway\, Loves Park\, IL\
 , 61111\, United States
END:VEVENT
END:VCALENDAR
