BEGIN:VCALENDAR
VERSION:2.0
PRODID:-//Squarespace Inc/Squarespace 6//v6//EN
BEGIN:VEVENT
UID:5c7aa42d419202903695d71c@squarespace.com
DTSTAMP:20190306T034814Z
DTSTART:20190317T170000Z
DTEND:20190317T190000Z
SUMMARY:What Are You Really Hungry For?   An Interactive Workshop on Emotio
 nal and Mindful Eating
GEO:42.325739;-88.985335
LOCATION:Choices Natural Market\, 6718 Broadcast Parkway\, Loves Park\, IL\
 , 61111\, United States
END:VEVENT
END:VCALENDAR
