BEGIN:VCALENDAR
VERSION:2.0
PRODID:-//Squarespace Inc/Squarespace 6//v6//EN
BEGIN:VEVENT
UID:5c7a9902e2c4834c1a27b21d@squarespace.com
DTSTAMP:20190302T145759Z
DTSTART:20190302T140000Z
DTEND:20190303T010000Z
SUMMARY:March Sample Saturday
END:VEVENT
END:VCALENDAR
